BEGIN:VCALENDAR
VERSION:2.0
PRODID:-//OpenVan.camp//Calendar//EN
CALSCALE:GREGORIAN
METHOD:PUBLISH
BEGIN:VEVENT
UID:myrtle-beach-rv-show-2026@coffee.bez.coffee
DTSTAMP:20260424T031912Z
DTSTART;VALUE=DATE:20261023
DTEND;VALUE=DATE:20261025
SUMMARY:Myrtle Beach RV Show
LOCATION:Миртл-Бич\, US
URL:https://myrtlebeachconventioncenter.com/events/myrtle-beach-rv-show/
STATUS:CONFIRMED
CATEGORIES:Exhibition,RV,Camping
END:VEVENT
END:VCALENDAR
