BEGIN:VCALENDAR
VERSION:2.0
PRODID:-//OpenVan.camp//Calendar//EN
CALSCALE:GREGORIAN
METHOD:PUBLISH
BEGIN:VEVENT
UID:puyallup-home-rv-show-2026@coffee.bez.coffee
DTSTAMP:20260424T031553Z
DTSTART;VALUE=DATE:20260430
DTEND;VALUE=DATE:20260504
SUMMARY:Puyallup Home & RV Show
DESCRIPTION:Увидьте сотни домов на колёсах\, автодомов\, прицепов\, кемперов и фургонов в одном месте. Выставка домов на колёсах Puyallup пройдёт с 1 по 4 мая 2025 года в Washington State Fair Events Center.
LOCATION:Washington State Fair\, Пьюаллап\, US
GEO:47.1840441;-122.2943071
URL:https://www.puyalluprvshow.com/
STATUS:CONFIRMED
CATEGORIES:Exhibition,RV,Camping
END:VEVENT
END:VCALENDAR
