BEGIN:VCALENDAR
VERSION:2.0
PRODID:-//OpenVan.camp//Calendar//EN
CALSCALE:GREGORIAN
METHOD:PUBLISH
BEGIN:VEVENT
UID:washington-state-evergreen-spring-rv-show-2026@coffee.bez.coffee
DTSTAMP:20260424T001050Z
DTSTART;VALUE=DATE:20260925
DTEND;VALUE=DATE:20260928
SUMMARY:Washington State Evergreen Spring RV Show
DESCRIPTION:44-я ежегодная 3\, 4\, 5 апреля 2026 года Выставка автодомов Evergreen Spring в штате Вашингтон Любимая выставка автодомов Вашингтона Место проведения EVERGREEN STATE FAIRGROUNDS 14405 179th Ave. SE Монро\, Вашингтон Легкий доступ с I-5 • Смотрите указатели на шоссе Проложить маршрут > Дата и время 3\, 4\, 5 апреля 2026 года Пт: 10:00 – 18:00 Сб: 10:00 – 18:00 Вс: 10…
LOCATION:Evergreen State Fairgrounds\, Монро\, US
GEO:47.8681547;-121.9887365
URL:https://www.evergreenspringrvshow.com/
STATUS:CONFIRMED
CATEGORIES:Exhibition,RV,Camping
END:VEVENT
END:VCALENDAR
