BEGIN:VCALENDAR
VERSION:2.0
PRODID:-//OpenVan.camp//Calendar//EN
CALSCALE:GREGORIAN
METHOD:PUBLISH
BEGIN:VEVENT
UID:nascar-camping-week-new-hampshire-motor-speedway-2026@coffee.bez.coffee
DTSTAMP:20260424T031553Z
DTSTART;VALUE=DATE:20260815
DTEND;VALUE=DATE:20260825
SUMMARY:Неделя кемпинга NASCAR на автодроме Нью-Гэмпшир 2026
DESCRIPTION:Кемпинг-мероприятие для фанатов гонок на New Hampshire Motor Speedway. Оно состоится в августе 2026 года\, совпадая с уик-эндом NASCAR Cup Series. Мероприятие предлагает различные варианты кемпинга\, включая места для автодомов\, палаточные площадки и премиальные зоны с подключениями. Кемперы могут наслаждаться живой музыкой\, играми\, появлениями гонщиков\, фанатскими активностями и вечерними развлечениями в течение недели.
LOCATION:Нью-Гэмпшир Мотор Спидвей\, Нью-Гэмпшир\, US
URL:https://NHMS.com
STATUS:CONFIRMED
CATEGORIES:Exhibition,RV,Camping
END:VEVENT
END:VCALENDAR
