BEGIN:VCALENDAR
VERSION:2.0
PRODID:-//OpenVan.camp//Calendar//EN
CALSCALE:GREGORIAN
METHOD:PUBLISH
BEGIN:VEVENT
UID:wp-11069@coffee.bez.coffee
DTSTAMP:20260424T031814Z
DTSTART;VALUE=DATE:20260911
DTEND;VALUE=DATE:20260914
SUMMARY:COSP Guangzhou 2026 — выставка кемпинга и outdoor-решений
DESCRIPTION:COSP Guangzhou Outdoor & Camping Expo 2026 пройдёт с 11 по 13 сентября в выставочном центре Poly World Trade Center Expo\, Гуанчжоу. Это одно из крупнейших мероприятий Китая в области outdoor-индустрии\, кемпинга и автотуризма. Экспозиция охватывает палатки\, мебель для кемпинга\, мобильные решения для жизни на колесах\, туристическое оборудование\, аксессуары\, а также продукцию для автодомов и кемперов. В организации выставки участвует CE-Shixing (中展世信). Приём заявок для экспонентов уже открыт на официальных сайтах COSP. Обратите внимание: на разных ресурсах указываются разные сроки — 11–13 и 11–14 сентября\, рекомендуется уточнить точные даты у организаторов.
LOCATION:Китай\, Гуанчжоу\, "Poly World Trade Center Expo"\, Гуанчжоу\, CN
GEO:23.09790709;113.36828641
URL:https://www.cnena.com/news/bencandy-htm-fid-11-id-98572.html
STATUS:CONFIRMED
CATEGORIES:Exhibition,RV,Camping
END:VEVENT
END:VCALENDAR
